BEGIN:VCALENDAR
VERSION:2.0
PRODID:-//wp-events-plugin.com//7.2.3.1//EN
TZID:Europe/Zurich
X-WR-TIMEZONE:Europe/Zurich
BEGIN:VEVENT
UID:1@sv-muenchwilen.ch
DTSTART;TZID=Europe/Zurich:20230323T180000
DTEND;TZID=Europe/Zurich:20230323T200000
DTSTAMP:20230305T134740Z
URL:https://sv-muenchwilen.ch/?event=eroeffnungsschiessen-2
SUMMARY:Eröffnungsschiessen
DESCRIPTION:
CATEGORIES:Training
LOCATION:Schützenhaus Wil Thurau\, Eschenstrasse\, Wil\, SG\, 9500\, Ostsc
 hweiz\, Schweiz
GEO:47.476048;9.099062
X-APPLE-STRUCTURED-LOCATION;VALUE=URI;X-ADDRESS=Eschenstrasse\, Wil\, SG\, 
 9500\, Ostschweiz\, Schweiz;X-APPLE-RADIUS=100;X-TITLE=Schützenhaus Wil T
 hurau:geo:47.476048,9.099062
END:VEVENT
BEGIN:VEVENT
UID:2@sv-muenchwilen.ch
DTSTART;TZID=Europe/Zurich:20230330T180000
DTEND;TZID=Europe/Zurich:20230330T200000
DTSTAMP:20230305T143556Z
URL:https://sv-muenchwilen.ch/?event=eroeffnungsschiessen
SUMMARY:Eröffnungsschiessen
DESCRIPTION:
CATEGORIES:300m,Training
LOCATION:Schützenhaus Wil Thurau\, Eschenstrasse\, Wil\, SG\, 9500\, Ostsc
 hweiz\, Schweiz
GEO:47.476048;9.099062
X-APPLE-STRUCTURED-LOCATION;VALUE=URI;X-ADDRESS=Eschenstrasse\, Wil\, SG\, 
 9500\, Ostschweiz\, Schweiz;X-APPLE-RADIUS=100;X-TITLE=Schützenhaus Wil T
 hurau:geo:47.476048,9.099062
END:VEVENT
BEGIN:VEVENT
UID:3@sv-muenchwilen.ch
DTSTART;TZID=Europe/Zurich;VALUE=DATE:20230403
DTEND;TZID=Europe/Zurich;VALUE=DATE:20230404
DTSTAMP:20230305T112616Z
URL:https://sv-muenchwilen.ch/?event=luftgewehr-ferienpass-in-muenchwilen
SUMMARY:Luftgewehr Ferienpass in Münchwilen
DESCRIPTION:
CATEGORIES:Luftgewehr
END:VEVENT
BEGIN:VEVENT
UID:4@sv-muenchwilen.ch
DTSTART;TZID=Europe/Zurich;VALUE=DATE:20230411
DTEND;TZID=Europe/Zurich;VALUE=DATE:20230412
DTSTAMP:20230317T053840Z
URL:https://sv-muenchwilen.ch/?event=js-theorie-in-muenchwilen
SUMMARY:JS Theorie in Münchwilen
DESCRIPTION:Theorie und erste Sicherheitsanweisungen\n
CATEGORIES:Jungschützen,Theorie
LOCATION:Schützenhaus Münchwilen\, Schützenhausstrasse 4\, Münchwilen\,
  9542\, Ostschweiz\, Schweiz
GEO:47.47998;8.987203
X-APPLE-STRUCTURED-LOCATION;VALUE=URI;X-ADDRESS=Schützenhausstrasse 4\, M
 ünchwilen\, 9542\, Ostschweiz\, Schweiz;X-APPLE-RADIUS=100;X-TITLE=Schüt
 zenhaus Münchwilen:geo:47.47998,8.987203
END:VEVENT
BEGIN:VEVENT
UID:5@sv-muenchwilen.ch
DTSTART;TZID=Europe/Zurich:20230415T084500
DTEND;TZID=Europe/Zurich:20230415T104500
DTSTAMP:20230317T054100Z
URL:https://sv-muenchwilen.ch/?event=js-kurs
SUMMARY:JS Kurs 1.Schiesstag
DESCRIPTION:
CATEGORIES:300m,Jungschützen,Training
LOCATION:Schützenhaus Wil Thurau\, Eschenstrasse\, Wil\, SG\, 9500\, Ostsc
 hweiz\, Schweiz
GEO:47.476048;9.099062
X-APPLE-STRUCTURED-LOCATION;VALUE=URI;X-ADDRESS=Eschenstrasse\, Wil\, SG\, 
 9500\, Ostschweiz\, Schweiz;X-APPLE-RADIUS=100;X-TITLE=Schützenhaus Wil T
 hurau:geo:47.476048,9.099062
END:VEVENT
BEGIN:VEVENT
UID:6@sv-muenchwilen.ch
DTSTART;TZID=Europe/Zurich:20230420T174500
DTEND;TZID=Europe/Zurich:20230420T194500
DTSTAMP:20230318T132553Z
URL:https://sv-muenchwilen.ch/?event=js-training
SUMMARY:JS Kurs 2.Schiesstag
DESCRIPTION:
CATEGORIES:300m,Jungschützen,Training
LOCATION:Schützenhaus Wil Thurau\, Eschenstrasse\, Wil\, SG\, 9500\, Ostsc
 hweiz\, Schweiz
GEO:47.476048;9.099062
X-APPLE-STRUCTURED-LOCATION;VALUE=URI;X-ADDRESS=Eschenstrasse\, Wil\, SG\, 
 9500\, Ostschweiz\, Schweiz;X-APPLE-RADIUS=100;X-TITLE=Schützenhaus Wil T
 hurau:geo:47.476048,9.099062
END:VEVENT
BEGIN:VEVENT
UID:7@sv-muenchwilen.ch
DTSTART;TZID=Europe/Zurich:20230427T174500
DTEND;TZID=Europe/Zurich:20230427T194500
DTSTAMP:20230318T132710Z
URL:https://sv-muenchwilen.ch/?event=js-training-2
SUMMARY:JS Kurs 3. Schiesstag
DESCRIPTION:
CATEGORIES:300m,Jungschützen,Training
LOCATION:Schützenhaus Wil Thurau\, Eschenstrasse\, Wil\, SG\, 9500\, Ostsc
 hweiz\, Schweiz
GEO:47.476048;9.099062
X-APPLE-STRUCTURED-LOCATION;VALUE=URI;X-ADDRESS=Eschenstrasse\, Wil\, SG\, 
 9500\, Ostschweiz\, Schweiz;X-APPLE-RADIUS=100;X-TITLE=Schützenhaus Wil T
 hurau:geo:47.476048,9.099062
END:VEVENT
BEGIN:VEVENT
UID:8@sv-muenchwilen.ch
DTSTART;TZID=Europe/Zurich:20230504T180000
DTEND;TZID=Europe/Zurich:20230504T200000
DTSTAMP:20230318T133258Z
URL:https://sv-muenchwilen.ch/?event=training
SUMMARY:Training
DESCRIPTION:Training und erster Tageswettkampf
CATEGORIES:300m,Training,Wettkampf
LOCATION:Schützenhaus Wil Thurau\, Eschenstrasse\, Wil\, SG\, 9500\, Ostsc
 hweiz\, Schweiz
GEO:47.476048;9.099062
X-APPLE-STRUCTURED-LOCATION;VALUE=URI;X-ADDRESS=Eschenstrasse\, Wil\, SG\, 
 9500\, Ostschweiz\, Schweiz;X-APPLE-RADIUS=100;X-TITLE=Schützenhaus Wil T
 hurau:geo:47.476048,9.099062
END:VEVENT
BEGIN:VEVENT
UID:9@sv-muenchwilen.ch
DTSTART;TZID=Europe/Zurich:20230511T174500
DTEND;TZID=Europe/Zurich:20230511T194500
DTSTAMP:20230318T132921Z
URL:https://sv-muenchwilen.ch/?event=2126
SUMMARY:JS Kurs 4. Schiesstag und Raiffeisen Cup
DESCRIPTION:Jungschützen Training und RE-Cup
CATEGORIES:300m,Jungschützen,Training,Wettkampf
LOCATION:Schützenhaus Wil Thurau\, Eschenstrasse\, Wil\, SG\, 9500\, Ostsc
 hweiz\, Schweiz
GEO:47.476048;9.099062
X-APPLE-STRUCTURED-LOCATION;VALUE=URI;X-ADDRESS=Eschenstrasse\, Wil\, SG\, 
 9500\, Ostschweiz\, Schweiz;X-APPLE-RADIUS=100;X-TITLE=Schützenhaus Wil T
 hurau:geo:47.476048,9.099062
END:VEVENT
BEGIN:VEVENT
UID:10@sv-muenchwilen.ch
DTSTART;TZID=Europe/Zurich:20230525T174500
DTEND;TZID=Europe/Zurich:20230525T194500
DTSTAMP:20230318T133054Z
URL:https://sv-muenchwilen.ch/?event=js-training-3
SUMMARY:JS Kurs 5. Schiesstag Vorübung FS
DESCRIPTION:JS Kurs und Vorübung Feldschiessen
CATEGORIES:300m,Jungschützen,Training
LOCATION:Schützenhaus Wil Thurau\, Eschenstrasse\, Wil\, SG\, 9500\, Ostsc
 hweiz\, Schweiz
GEO:47.476048;9.099062
X-APPLE-STRUCTURED-LOCATION;VALUE=URI;X-ADDRESS=Eschenstrasse\, Wil\, SG\, 
 9500\, Ostschweiz\, Schweiz;X-APPLE-RADIUS=100;X-TITLE=Schützenhaus Wil T
 hurau:geo:47.476048,9.099062
END:VEVENT
BEGIN:VEVENT
UID:11@sv-muenchwilen.ch
DTSTART;TZID=Europe/Zurich:20230526T174500
DTEND;TZID=Europe/Zurich:20230526T200000
DTSTAMP:20230318T133212Z
URL:https://sv-muenchwilen.ch/?event=vorschiessen-fs
SUMMARY:Vorschiessen Feldschiessen Thurau
DESCRIPTION:
CATEGORIES:300m,Jungschützen,Training,Training
LOCATION:Schützenhaus Wil Thurau\, Eschenstrasse\, Wil\, SG\, 9500\, Ostsc
 hweiz\, Schweiz
GEO:47.476048;9.099062
X-APPLE-STRUCTURED-LOCATION;VALUE=URI;X-ADDRESS=Eschenstrasse\, Wil\, SG\, 
 9500\, Ostschweiz\, Schweiz;X-APPLE-RADIUS=100;X-TITLE=Schützenhaus Wil T
 hurau:geo:47.476048,9.099062
END:VEVENT
BEGIN:VEVENT
UID:12@sv-muenchwilen.ch
DTSTART;TZID=Europe/Zurich:20230601T174500
DTEND;TZID=Europe/Zurich:20230601T194500
DTSTAMP:20230318T133436Z
URL:https://sv-muenchwilen.ch/?event=js-training-4
SUMMARY:JS Kurs 6. Schiesstag
DESCRIPTION:
CATEGORIES:300m,Jungschützen,Training
LOCATION:Schützenhaus Wil Thurau\, Eschenstrasse\, Wil\, SG\, 9500\, Ostsc
 hweiz\, Schweiz
GEO:47.476048;9.099062
X-APPLE-STRUCTURED-LOCATION;VALUE=URI;X-ADDRESS=Eschenstrasse\, Wil\, SG\, 
 9500\, Ostschweiz\, Schweiz;X-APPLE-RADIUS=100;X-TITLE=Schützenhaus Wil T
 hurau:geo:47.476048,9.099062
END:VEVENT
BEGIN:VEVENT
UID:13@sv-muenchwilen.ch
DTSTART;TZID=Europe/Zurich:20230602T173000
DTEND;TZID=Europe/Zurich:20230602T200000
DTSTAMP:20230305T114109Z
URL:https://sv-muenchwilen.ch/?event=feldschiessen-6
SUMMARY:Feldschiessen
DESCRIPTION:
CATEGORIES:300m,Wettkampf
END:VEVENT
BEGIN:VEVENT
UID:14@sv-muenchwilen.ch
DTSTART;TZID=Europe/Zurich:20230603T140000
DTEND;TZID=Europe/Zurich:20230603T170000
DTSTAMP:20230305T114203Z
URL:https://sv-muenchwilen.ch/?event=feldschiessen-7
SUMMARY:Feldschiessen
DESCRIPTION:
CATEGORIES:300m,Wettkampf
END:VEVENT
BEGIN:VEVENT
UID:15@sv-muenchwilen.ch
DTSTART;TZID=Europe/Zurich:20230604T090000
DTEND;TZID=Europe/Zurich:20230604T110000
DTSTAMP:20230305T114243Z
URL:https://sv-muenchwilen.ch/?event=feldschiessen-8
SUMMARY:Feldschiessen
DESCRIPTION:
CATEGORIES:300m,Wettkampf
END:VEVENT
BEGIN:VEVENT
UID:16@sv-muenchwilen.ch
DTSTART;TZID=Europe/Zurich;VALUE=DATE:20230607
DTEND;TZID=Europe/Zurich;VALUE=DATE:20230608
DTSTAMP:20230305T115319Z
URL:https://sv-muenchwilen.ch/?event=bezirksschiessen-eschlikon
SUMMARY:Bezirksschiessen Eschlikon
DESCRIPTION:
CATEGORIES:300m,Wettkampf
LOCATION:Schießplatz in Eschlikon\, Schiessplatz\, Eschlikon\, TG\, 8360\,
  Ostschweiz\, Schweiz
GEO:47.456748;9.000329
X-APPLE-STRUCTURED-LOCATION;VALUE=URI;X-ADDRESS=Schiessplatz\, Eschlikon\, 
 TG\, 8360\, Ostschweiz\, Schweiz;X-APPLE-RADIUS=100;X-TITLE=Schießplatz i
 n Eschlikon:geo:47.456748,9.000329
END:VEVENT
BEGIN:VEVENT
UID:31@sv-muenchwilen.ch
DTSTART;TZID=Europe/Zurich:20230607T180000
DTEND;TZID=Europe/Zurich:20230607T200000
DTSTAMP:20230318T134019Z
URL:https://sv-muenchwilen.ch/?event=jungschuetzenwettschiessen-in-hurnen-
 0910-juni
SUMMARY:Jungschützenwettschiessen in Hurnen (09+10.Juni)
DESCRIPTION:
CATEGORIES:300m,Jungschützen,Wettkampf
LOCATION:Schützenhaus Eschlikon\, Schiessplatz\, Eschlikon\, Thurgau\, Ost
 schweiz\, Schweiz
GEO:47.463985;8.966738
X-APPLE-STRUCTURED-LOCATION;VALUE=URI;X-ADDRESS=Schiessplatz\, Eschlikon\, 
 Thurgau\, Ostschweiz\, Schweiz;X-APPLE-RADIUS=100;X-TITLE=Schützenhaus Es
 chlikon:geo:47.463985,8.966738
END:VEVENT
BEGIN:VEVENT
UID:17@sv-muenchwilen.ch
DTSTART;TZID=Europe/Zurich;VALUE=DATE:20230609
DTEND;TZID=Europe/Zurich;VALUE=DATE:20230610
DTSTAMP:20230305T115518Z
URL:https://sv-muenchwilen.ch/?event=bezirksschiessen-eschlikon-2
SUMMARY:Bezirksschiessen Eschlikon
DESCRIPTION:
CATEGORIES:300m,Wettkampf
LOCATION:Schießplatz in Eschlikon\, Schiessplatz\, Eschlikon\, TG\, 8360\,
  Ostschweiz\, Schweiz
GEO:47.456748;9.000329
X-APPLE-STRUCTURED-LOCATION;VALUE=URI;X-ADDRESS=Schiessplatz\, Eschlikon\, 
 TG\, 8360\, Ostschweiz\, Schweiz;X-APPLE-RADIUS=100;X-TITLE=Schießplatz i
 n Eschlikon:geo:47.456748,9.000329
END:VEVENT
BEGIN:VEVENT
UID:18@sv-muenchwilen.ch
DTSTART;TZID=Europe/Zurich;VALUE=DATE:20230610
DTEND;TZID=Europe/Zurich;VALUE=DATE:20230611
DTSTAMP:20230305T115547Z
URL:https://sv-muenchwilen.ch/?event=bezirksschiessen-eschlikon-3
SUMMARY:Bezirksschiessen Eschlikon
DESCRIPTION:
CATEGORIES:300m,Wettkampf
LOCATION:Schießplatz in Eschlikon\, Schiessplatz\, Eschlikon\, TG\, 8360\,
  Ostschweiz\, Schweiz
GEO:47.456748;9.000329
X-APPLE-STRUCTURED-LOCATION;VALUE=URI;X-ADDRESS=Schiessplatz\, Eschlikon\, 
 TG\, 8360\, Ostschweiz\, Schweiz;X-APPLE-RADIUS=100;X-TITLE=Schießplatz i
 n Eschlikon:geo:47.456748,9.000329
END:VEVENT
BEGIN:VEVENT
UID:19@sv-muenchwilen.ch
DTSTART;TZID=Europe/Zurich:20230615T174500
DTEND;TZID=Europe/Zurich:20230615T194500
DTSTAMP:20230318T134200Z
URL:https://sv-muenchwilen.ch/?event=js-training-5
SUMMARY:JS Kurs 7. Reserve Schiesstag und Oblj JS
DESCRIPTION:
CATEGORIES:300m,Jungschützen,Training
LOCATION:Schützenhaus Wil Thurau\, Eschenstrasse\, Wil\, SG\, 9500\, Ostsc
 hweiz\, Schweiz
GEO:47.476048;9.099062
X-APPLE-STRUCTURED-LOCATION;VALUE=URI;X-ADDRESS=Eschenstrasse\, Wil\, SG\, 
 9500\, Ostschweiz\, Schweiz;X-APPLE-RADIUS=100;X-TITLE=Schützenhaus Wil T
 hurau:geo:47.476048,9.099062
END:VEVENT
BEGIN:VEVENT
UID:20@sv-muenchwilen.ch
DTSTART;TZID=Europe/Zurich;VALUE=DATE:20230616
DTEND;TZID=Europe/Zurich;VALUE=DATE:20230617
DTSTAMP:20230305T120030Z
URL:https://sv-muenchwilen.ch/?event=thurgauer-kantonalschuetzenfest-2023
SUMMARY:Thurgauer Kantonalschützenfest 2023
DESCRIPTION:Thurgauer Kantonalschützenfest 2023\n\nRegulärer Schiessbetri
 eb\nFreitag\, 16. Juni bis Sonntag\, 18. Juni 2023\nFreitag\, 23. Juni bis
  Montag\, 26. Juni 2023\nFreitag\, 30. Juni bis Sonntag\, 02. Juli 2023 \n
 (Detaillierte Schiesszeiten werden noch definiert)
END:VEVENT
BEGIN:VEVENT
UID:21@sv-muenchwilen.ch
DTSTART;TZID=Europe/Zurich:20230622T180000
DTEND;TZID=Europe/Zurich:20230622T200000
DTSTAMP:20230305T120230Z
URL:https://sv-muenchwilen.ch/?event=training-2
SUMMARY:Training
DESCRIPTION:Training
CATEGORIES:300m,Training
LOCATION:Schützenhaus Wil Thurau\, Eschenstrasse\, Wil\, SG\, 9500\, Ostsc
 hweiz\, Schweiz
GEO:47.476048;9.099062
X-APPLE-STRUCTURED-LOCATION;VALUE=URI;X-ADDRESS=Eschenstrasse\, Wil\, SG\, 
 9500\, Ostschweiz\, Schweiz;X-APPLE-RADIUS=100;X-TITLE=Schützenhaus Wil T
 hurau:geo:47.476048,9.099062
END:VEVENT
BEGIN:VEVENT
UID:22@sv-muenchwilen.ch
DTSTART;TZID=Europe/Zurich:20230629T180000
DTEND;TZID=Europe/Zurich:20230629T200000
DTSTAMP:20230305T120345Z
URL:https://sv-muenchwilen.ch/?event=1-obli-uebung
SUMMARY:1. Obli Uebung
DESCRIPTION:
CATEGORIES:300m,Training
LOCATION:Schützenhaus Wil Thurau\, Eschenstrasse\, Wil\, SG\, 9500\, Ostsc
 hweiz\, Schweiz
GEO:47.476048;9.099062
X-APPLE-STRUCTURED-LOCATION;VALUE=URI;X-ADDRESS=Eschenstrasse\, Wil\, SG\, 
 9500\, Ostschweiz\, Schweiz;X-APPLE-RADIUS=100;X-TITLE=Schützenhaus Wil T
 hurau:geo:47.476048,9.099062
END:VEVENT
BEGIN:VEVENT
UID:23@sv-muenchwilen.ch
DTSTART;TZID=Europe/Zurich:20230810T180000
DTEND;TZID=Europe/Zurich:20230810T200000
DTSTAMP:20230305T120510Z
URL:https://sv-muenchwilen.ch/?event=training-3
SUMMARY:Training
DESCRIPTION:
CATEGORIES:300m,Training
LOCATION:Schützenhaus Wil Thurau\, Eschenstrasse\, Wil\, SG\, 9500\, Ostsc
 hweiz\, Schweiz
GEO:47.476048;9.099062
X-APPLE-STRUCTURED-LOCATION;VALUE=URI;X-ADDRESS=Eschenstrasse\, Wil\, SG\, 
 9500\, Ostschweiz\, Schweiz;X-APPLE-RADIUS=100;X-TITLE=Schützenhaus Wil T
 hurau:geo:47.476048,9.099062
END:VEVENT
BEGIN:VEVENT
UID:24@sv-muenchwilen.ch
DTSTART;TZID=Europe/Zurich:20230817T174500
DTEND;TZID=Europe/Zurich:20230817T194500
DTSTAMP:20230318T134321Z
URL:https://sv-muenchwilen.ch/?event=js-training-6
SUMMARY:JS Kurs 8. Reserve Schiesstag
DESCRIPTION:
CATEGORIES:300m,Jungschützen,Training
LOCATION:Schützenhaus Wil Thurau\, Eschenstrasse\, Wil\, SG\, 9500\, Ostsc
 hweiz\, Schweiz
GEO:47.476048;9.099062
X-APPLE-STRUCTURED-LOCATION;VALUE=URI;X-ADDRESS=Eschenstrasse\, Wil\, SG\, 
 9500\, Ostschweiz\, Schweiz;X-APPLE-RADIUS=100;X-TITLE=Schützenhaus Wil T
 hurau:geo:47.476048,9.099062
END:VEVENT
BEGIN:VEVENT
UID:25@sv-muenchwilen.ch
DTSTART;TZID=Europe/Zurich:20230824T180000
DTEND;TZID=Europe/Zurich:20230824T200000
DTSTAMP:20230305T132951Z
URL:https://sv-muenchwilen.ch/?event=training-4
SUMMARY:Training
DESCRIPTION:Ende Kantonal und Vancouver Stich
CATEGORIES:300m,Training,Wettkampf
LOCATION:Schützenhaus Wil Thurau\, Eschenstrasse\, Wil\, SG\, 9500\, Ostsc
 hweiz\, Schweiz
GEO:47.476048;9.099062
X-APPLE-STRUCTURED-LOCATION;VALUE=URI;X-ADDRESS=Eschenstrasse\, Wil\, SG\, 
 9500\, Ostschweiz\, Schweiz;X-APPLE-RADIUS=100;X-TITLE=Schützenhaus Wil T
 hurau:geo:47.476048,9.099062
END:VEVENT
BEGIN:VEVENT
UID:26@sv-muenchwilen.ch
DTSTART;TZID=Europe/Zurich:20230831T180000
DTEND;TZID=Europe/Zurich:20230831T200000
DTSTAMP:20230305T133120Z
URL:https://sv-muenchwilen.ch/?event=2-obli-uebung
SUMMARY:2. Obli Uebung
DESCRIPTION:
CATEGORIES:300m,Training
LOCATION:Schützenhaus Wil Thurau\, Eschenstrasse\, Wil\, SG\, 9500\, Ostsc
 hweiz\, Schweiz
GEO:47.476048;9.099062
X-APPLE-STRUCTURED-LOCATION;VALUE=URI;X-ADDRESS=Eschenstrasse\, Wil\, SG\, 
 9500\, Ostschweiz\, Schweiz;X-APPLE-RADIUS=100;X-TITLE=Schützenhaus Wil T
 hurau:geo:47.476048,9.099062
END:VEVENT
BEGIN:VEVENT
UID:27@sv-muenchwilen.ch
DTSTART;TZID=Europe/Zurich:20230907T180000
DTEND;TZID=Europe/Zurich:20230907T200000
DTSTAMP:20230305T133216Z
URL:https://sv-muenchwilen.ch/?event=training-29
SUMMARY:Training
DESCRIPTION:
CATEGORIES:300m,Training
LOCATION:Schützenhaus Wil Thurau\, Eschenstrasse\, Wil\, SG\, 9500\, Ostsc
 hweiz\, Schweiz
GEO:47.476048;9.099062
X-APPLE-STRUCTURED-LOCATION;VALUE=URI;X-ADDRESS=Eschenstrasse\, Wil\, SG\, 
 9500\, Ostschweiz\, Schweiz;X-APPLE-RADIUS=100;X-TITLE=Schützenhaus Wil T
 hurau:geo:47.476048,9.099062
END:VEVENT
BEGIN:VEVENT
UID:28@sv-muenchwilen.ch
DTSTART;TZID=Europe/Zurich:20230921T180000
DTEND;TZID=Europe/Zurich:20230921T200000
DTSTAMP:20230305T133346Z
URL:https://sv-muenchwilen.ch/?event=training-oder-endschiessen
SUMMARY:Training oder Endschiessen
DESCRIPTION:
CATEGORIES:300m,Training
LOCATION:Schützenhaus Wil Thurau\, Eschenstrasse\, Wil\, SG\, 9500\, Ostsc
 hweiz\, Schweiz
GEO:47.476048;9.099062
X-APPLE-STRUCTURED-LOCATION;VALUE=URI;X-ADDRESS=Eschenstrasse\, Wil\, SG\, 
 9500\, Ostschweiz\, Schweiz;X-APPLE-RADIUS=100;X-TITLE=Schützenhaus Wil T
 hurau:geo:47.476048,9.099062
END:VEVENT
BEGIN:VEVENT
UID:32@sv-muenchwilen.ch
DTSTART;TZID=Europe/Zurich;VALUE=DATE:20230930
DTEND;TZID=Europe/Zurich;VALUE=DATE:20231001
DTSTAMP:20230318T134504Z
URL:https://sv-muenchwilen.ch/?event=js-kurs-endschiessen-und-gewehr-putze
 n
SUMMARY:JS Kurs Endschiessen und Gewehr putzen
DESCRIPTION:
CATEGORIES:300m,Jungschützen,Training
LOCATION:Schützenhaus Wil Thurau\, Eschenstrasse\, Wil\, SG\, 9500\, Ostsc
 hweiz\, Schweiz
GEO:47.476048;9.099062
X-APPLE-STRUCTURED-LOCATION;VALUE=URI;X-ADDRESS=Eschenstrasse\, Wil\, SG\, 
 9500\, Ostschweiz\, Schweiz;X-APPLE-RADIUS=100;X-TITLE=Schützenhaus Wil T
 hurau:geo:47.476048,9.099062
END:VEVENT
BEGIN:VEVENT
UID:29@sv-muenchwilen.ch
DTSTART;TZID=Europe/Zurich;VALUE=DATE:20231007
DTEND;TZID=Europe/Zurich;VALUE=DATE:20231008
DTSTAMP:20230305T133637Z
URL:https://sv-muenchwilen.ch/?event=bezirks-finale-waengi
SUMMARY:Bezirks Finale Wängi
DESCRIPTION:
CATEGORIES:300m,Jungschützen,Wettkampf
END:VEVENT
BEGIN:VEVENT
UID:30@sv-muenchwilen.ch
DTSTART;TZID=Europe/Zurich:20231103T183000
DTEND;TZID=Europe/Zurich:20231103T220000
DTSTAMP:20231012T031113Z
URL:https://sv-muenchwilen.ch/?event=absenden
SUMMARY:Absenden 2023
DESCRIPTION:Einladung Absenden
CATEGORIES:Anlass
END:VEVENT
BEGIN:VEVENT
UID:34@sv-muenchwilen.ch
DTSTART;TZID=Europe/Zurich;VALUE=DATE:20240325
DTEND;TZID=Europe/Zurich;VALUE=DATE:20240326
DTSTAMP:20240315T184417Z
URL:https://sv-muenchwilen.ch/?event=jungschuetzen-theorie-in-muenchwilen
SUMMARY:Jungschützen Theorie in Münchwilen
DESCRIPTION:
CATEGORIES:300m,Anlass,Jungschützen,Theorie
LOCATION:Schützenhaus Münchwilen\, Schützenhausstrasse 4\, Münchwilen\,
  9542\, Ostschweiz\, Schweiz
GEO:47.47998;8.987203
X-APPLE-STRUCTURED-LOCATION;VALUE=URI;X-ADDRESS=Schützenhausstrasse 4\, M
 ünchwilen\, 9542\, Ostschweiz\, Schweiz;X-APPLE-RADIUS=100;X-TITLE=Schüt
 zenhaus Münchwilen:geo:47.47998,8.987203
END:VEVENT
BEGIN:VEVENT
UID:35@sv-muenchwilen.ch
DTSTART;TZID=Europe/Zurich;VALUE=DATE:20240408
DTEND;TZID=Europe/Zurich;VALUE=DATE:20240409
DTSTAMP:20240315T184615Z
URL:https://sv-muenchwilen.ch/?event=lg-ferienpass
SUMMARY:LG Ferienpass
DESCRIPTION:
CATEGORIES:Anlass
LOCATION:Schützenhaus Münchwilen\, Schützenhausstrasse 4\, Münchwilen\,
  9542\, Ostschweiz\, Schweiz
GEO:47.47998;8.987203
X-APPLE-STRUCTURED-LOCATION;VALUE=URI;X-ADDRESS=Schützenhausstrasse 4\, M
 ünchwilen\, 9542\, Ostschweiz\, Schweiz;X-APPLE-RADIUS=100;X-TITLE=Schüt
 zenhaus Münchwilen:geo:47.47998,8.987203
END:VEVENT
BEGIN:VEVENT
UID:36@sv-muenchwilen.ch
DTSTART;TZID=Europe/Zurich:20240411T180000
DTEND;TZID=Europe/Zurich:20240411T200000
DTSTAMP:20240315T184828Z
URL:https://sv-muenchwilen.ch/?event=eroeffnungsschiessen-3
SUMMARY:Eröffnungsschiessen
DESCRIPTION:
CATEGORIES:300m,Anlass,Training
LOCATION:Schützenhaus Münchwilen\, Schützenhausstrasse 4\, Münchwilen\,
  9542\, Ostschweiz\, Schweiz
GEO:47.47998;8.987203
X-APPLE-STRUCTURED-LOCATION;VALUE=URI;X-ADDRESS=Schützenhausstrasse 4\, M
 ünchwilen\, 9542\, Ostschweiz\, Schweiz;X-APPLE-RADIUS=100;X-TITLE=Schüt
 zenhaus Münchwilen:geo:47.47998,8.987203
END:VEVENT
BEGIN:VEVENT
UID:37@sv-muenchwilen.ch
DTSTART;TZID=Europe/Zurich:20240413T090000
DTEND;TZID=Europe/Zurich:20240413T110000
DTSTAMP:20240315T184953Z
URL:https://sv-muenchwilen.ch/?event=js-kurs-2
SUMMARY:JS Kurs
DESCRIPTION:
CATEGORIES:300m,Jungschützen,Theorie,Training
LOCATION:Schützenhaus Wil Thurau\, Eschenstrasse\, Wil\, SG\, 9500\, Ostsc
 hweiz\, Schweiz
GEO:47.476048;9.099062
X-APPLE-STRUCTURED-LOCATION;VALUE=URI;X-ADDRESS=Eschenstrasse\, Wil\, SG\, 
 9500\, Ostschweiz\, Schweiz;X-APPLE-RADIUS=100;X-TITLE=Schützenhaus Wil T
 hurau:geo:47.476048,9.099062
END:VEVENT
BEGIN:VEVENT
UID:38@sv-muenchwilen.ch
DTSTART;TZID=Europe/Zurich:20240418T180000
DTEND;TZID=Europe/Zurich:20240418T200000
DTSTAMP:20240315T185057Z
URL:https://sv-muenchwilen.ch/?event=eroeffnungsschiessen-4
SUMMARY:Eröffnungsschiessen
DESCRIPTION:
CATEGORIES:300m,Training
LOCATION:Schützenhaus Wil Thurau\, Eschenstrasse\, Wil\, SG\, 9500\, Ostsc
 hweiz\, Schweiz
GEO:47.476048;9.099062
X-APPLE-STRUCTURED-LOCATION;VALUE=URI;X-ADDRESS=Eschenstrasse\, Wil\, SG\, 
 9500\, Ostschweiz\, Schweiz;X-APPLE-RADIUS=100;X-TITLE=Schützenhaus Wil T
 hurau:geo:47.476048,9.099062
END:VEVENT
BEGIN:VEVENT
UID:62@sv-muenchwilen.ch
DTSTART;TZID=Europe/Zurich;VALUE=DATE:20240420
DTEND;TZID=Europe/Zurich;VALUE=DATE:20240422
DTSTAMP:20240316T184042Z
URL:https://sv-muenchwilen.ch/?event=maerwilerschiessen-2024
SUMMARY:Märwilerschiessen 2024
DESCRIPTION:Freie Termine siehe Onlinekalender
CATEGORIES:300m,Anlass,Jungschützen,Wettkampf
LOCATION:https://www.svmaerwil.ch/raum
END:VEVENT
BEGIN:VEVENT
UID:39@sv-muenchwilen.ch
DTSTART;TZID=Europe/Zurich:20240420T090000
DTEND;TZID=Europe/Zurich:20240420T110000
DTSTAMP:20240315T185321Z
URL:https://sv-muenchwilen.ch/?event=js-kurs-3
SUMMARY:JS Kurs
DESCRIPTION:
CATEGORIES:300m,Jungschützen,Theorie,Training
LOCATION:Schützenhaus Wil Thurau\, Eschenstrasse\, Wil\, SG\, 9500\, Ostsc
 hweiz\, Schweiz
GEO:47.476048;9.099062
X-APPLE-STRUCTURED-LOCATION;VALUE=URI;X-ADDRESS=Eschenstrasse\, Wil\, SG\, 
 9500\, Ostschweiz\, Schweiz;X-APPLE-RADIUS=100;X-TITLE=Schützenhaus Wil T
 hurau:geo:47.476048,9.099062
END:VEVENT
BEGIN:VEVENT
UID:40@sv-muenchwilen.ch
DTSTART;TZID=Europe/Zurich:20240425T180000
DTEND;TZID=Europe/Zurich:20240425T200000
DTSTAMP:20240315T185432Z
URL:https://sv-muenchwilen.ch/?event=js-training-7
SUMMARY:JS + Training
DESCRIPTION:
CATEGORIES:300m,Jungschützen,Training,Training
LOCATION:Schützenhaus Wil Thurau\, Eschenstrasse\, Wil\, SG\, 9500\, Ostsc
 hweiz\, Schweiz
GEO:47.476048;9.099062
X-APPLE-STRUCTURED-LOCATION;VALUE=URI;X-ADDRESS=Eschenstrasse\, Wil\, SG\, 
 9500\, Ostschweiz\, Schweiz;X-APPLE-RADIUS=100;X-TITLE=Schützenhaus Wil T
 hurau:geo:47.476048,9.099062
END:VEVENT
BEGIN:VEVENT
UID:64@sv-muenchwilen.ch
DTSTART;TZID=Europe/Zurich;VALUE=DATE:20240426
DTEND;TZID=Europe/Zurich;VALUE=DATE:20240429
DTSTAMP:20240316T184304Z
URL:https://sv-muenchwilen.ch/?event=stadtschuetzen-wil
SUMMARY:Stadtschützen Wil
DESCRIPTION:604 Jahre Stadtschützen
CATEGORIES:Anlass,Wettkampf
END:VEVENT
BEGIN:VEVENT
UID:63@sv-muenchwilen.ch
DTSTART;TZID=Europe/Zurich;VALUE=DATE:20240427
DTEND;TZID=Europe/Zurich;VALUE=DATE:20240428
DTSTAMP:20240316T183752Z
URL:https://sv-muenchwilen.ch/?event=maerwilerschiessen-2024-2
SUMMARY:Märwilerschiessen 2024
DESCRIPTION:Freie Termine siehe Onlinekalender
CATEGORIES:300m,Anlass,Jungschützen,Wettkampf
LOCATION:https://www.svmaerwil.ch/raum
END:VEVENT
BEGIN:VEVENT
UID:41@sv-muenchwilen.ch
DTSTART;TZID=Europe/Zurich:20240502T180000
DTEND;TZID=Europe/Zurich:20240502T200000
DTSTAMP:20240315T185540Z
URL:https://sv-muenchwilen.ch/?event=js-voruebung-fs
SUMMARY:JS + Vorübung FS
DESCRIPTION:
CATEGORIES:300m,Jungschützen,Training,Training
LOCATION:Schützenhaus Wil Thurau\, Eschenstrasse\, Wil\, SG\, 9500\, Ostsc
 hweiz\, Schweiz
GEO:47.476048;9.099062
X-APPLE-STRUCTURED-LOCATION;VALUE=URI;X-ADDRESS=Eschenstrasse\, Wil\, SG\, 
 9500\, Ostschweiz\, Schweiz;X-APPLE-RADIUS=100;X-TITLE=Schützenhaus Wil T
 hurau:geo:47.476048,9.099062
END:VEVENT
BEGIN:VEVENT
UID:65@sv-muenchwilen.ch
DTSTART;TZID=Europe/Zurich;VALUE=DATE:20240503
DTEND;TZID=Europe/Zurich;VALUE=DATE:20240505
DTSTAMP:20240316T184331Z
URL:https://sv-muenchwilen.ch/?event=stadtschuetzen-wil-2
SUMMARY:Stadtschützen Wil
DESCRIPTION:604 Jahre Stadtschützen
CATEGORIES:Anlass,Wettkampf
END:VEVENT
BEGIN:VEVENT
UID:69@sv-muenchwilen.ch
DTSTART;TZID=Europe/Zurich:20240515T183000
DTEND;TZID=Europe/Zurich:20240515T203000
DTSTAMP:20240325T184343Z
URL:https://sv-muenchwilen.ch/?event=schiessen-ausser-dienst-2024
SUMMARY:Schiessen ausser Dienst 2024
DESCRIPTION:Feldschiessen Hochwacht\, Sirnach\n
CATEGORIES:300m,Anlass,Jungschützen,Obligatorisch für
 Wettkämpfer,Wettkampf
LOCATION:https://maps.app.goo.gl/pvmNLpnSkHxVhnLJA
END:VEVENT
BEGIN:VEVENT
UID:42@sv-muenchwilen.ch
DTSTART;TZID=Europe/Zurich:20240516T180000
DTEND;TZID=Europe/Zurich:20240516T200000
DTSTAMP:20240315T185648Z
URL:https://sv-muenchwilen.ch/?event=training-30
SUMMARY:Training
DESCRIPTION:
CATEGORIES:300m,Training
LOCATION:Schützenhaus Wil Thurau\, Eschenstrasse\, Wil\, SG\, 9500\, Ostsc
 hweiz\, Schweiz
GEO:47.476048;9.099062
X-APPLE-STRUCTURED-LOCATION;VALUE=URI;X-ADDRESS=Eschenstrasse\, Wil\, SG\, 
 9500\, Ostschweiz\, Schweiz;X-APPLE-RADIUS=100;X-TITLE=Schützenhaus Wil T
 hurau:geo:47.476048,9.099062
END:VEVENT
BEGIN:VEVENT
UID:43@sv-muenchwilen.ch
DTSTART;TZID=Europe/Zurich:20240523T180000
DTEND;TZID=Europe/Zurich:20240523T200000
DTSTAMP:20240315T185757Z
URL:https://sv-muenchwilen.ch/?event=js-voruebung-fs-2
SUMMARY:JS + Vorübung FS
DESCRIPTION:
CATEGORIES:300m,Jungschützen,Training,Training
LOCATION:Schützenhaus Wil Thurau\, Eschenstrasse\, Wil\, SG\, 9500\, Ostsc
 hweiz\, Schweiz
GEO:47.476048;9.099062
X-APPLE-STRUCTURED-LOCATION;VALUE=URI;X-ADDRESS=Eschenstrasse\, Wil\, SG\, 
 9500\, Ostschweiz\, Schweiz;X-APPLE-RADIUS=100;X-TITLE=Schützenhaus Wil T
 hurau:geo:47.476048,9.099062
END:VEVENT
BEGIN:VEVENT
UID:44@sv-muenchwilen.ch
DTSTART;TZID=Europe/Zurich;VALUE=DATE:20240524
DTEND;TZID=Europe/Zurich;VALUE=DATE:20240527
DTSTAMP:20240315T185932Z
URL:https://sv-muenchwilen.ch/?event=feldschiessen-sirnach
SUMMARY:Feldschiessen Sirnach
DESCRIPTION:
CATEGORIES:300m,Anlass,Jungschützen,Wettkampf
LOCATION:https://maps.app.goo.gl/3YpW2t8Jtq3zVUbz5
END:VEVENT
BEGIN:VEVENT
UID:45@sv-muenchwilen.ch
DTSTART;TZID=Europe/Zurich:20240530T180000
DTEND;TZID=Europe/Zurich:20240530T200000
DTSTAMP:20240315T190042Z
URL:https://sv-muenchwilen.ch/?event=1-tageswettkampf
SUMMARY:1.Tageswettkampf
DESCRIPTION:
CATEGORIES:300m,Anlass,Wettkampf
LOCATION:Schützenhaus Wil Thurau\, Eschenstrasse\, Wil\, SG\, 9500\, Ostsc
 hweiz\, Schweiz
GEO:47.476048;9.099062
X-APPLE-STRUCTURED-LOCATION;VALUE=URI;X-ADDRESS=Eschenstrasse\, Wil\, SG\, 
 9500\, Ostschweiz\, Schweiz;X-APPLE-RADIUS=100;X-TITLE=Schützenhaus Wil T
 hurau:geo:47.476048,9.099062
END:VEVENT
BEGIN:VEVENT
UID:46@sv-muenchwilen.ch
DTSTART;TZID=Europe/Zurich;VALUE=DATE:20240531
DTEND;TZID=Europe/Zurich;VALUE=DATE:20240601
DTSTAMP:20240315T190510Z
URL:https://sv-muenchwilen.ch/?event=bez-und-js-wettschiessen
SUMMARY:Bez. und JS Wettschiessen
DESCRIPTION:
CATEGORIES:300m,Anlass,Jungschützen,Wettkampf
LOCATION:https://maps.app.goo.gl/6CeqNyzMGrwsqEK28
END:VEVENT
BEGIN:VTIMEZONE
TZID:Europe/Zurich
X-LIC-LOCATION:Europe/Zurich
BEGIN:STANDARD
DTSTART:20221030T020000
TZOFFSETFROM:+0200
TZOFFSETTO:+0100
TZNAME:CET
END:STANDARD
BEGIN:DAYLIGHT
DTSTART:20230326T030000
TZOFFSETFROM:+0100
TZOFFSETTO:+0200
TZNAME:CEST
END:DAYLIGHT
BEGIN:STANDARD
DTSTART:20231029T020000
TZOFFSETFROM:+0200
TZOFFSETTO:+0100
TZNAME:CET
END:STANDARD
BEGIN:DAYLIGHT
DTSTART:20240331T030000
TZOFFSETFROM:+0100
TZOFFSETTO:+0200
TZNAME:CEST
END:DAYLIGHT
END:VTIMEZONE
END:VCALENDAR